BEGIN:VCALENDAR
VERSION:2.0
PRODID:-//wp-events-plugin.com//7.2.3.1//EN
TZID:Europe/Berlin
X-WR-TIMEZONE:Europe/Berlin
BEGIN:VEVENT
UID:35@e-g-s.eu
DTSTART;TZID=Europe/Berlin;VALUE=DATE:20280818
DTEND;TZID=Europe/Berlin;VALUE=DATE:20280820
DTSTAMP:20260227T124422Z
URL:https://e-g-s.eu/events/herbsttagung-der-egs-mit-investitur-in-pszscyn
 ia-polen/
SUMMARY:Herbsttagung der EGS mit Investitur - in Pszscynia (Polen)
DESCRIPTION:18. – 19.08.2028 – Herbsttagung der EGS und der Ritterscha
 ft vom Heiligen Sebastianus in Europa in Karlovac (Kroatien)
CATEGORIES:EGS
END:VEVENT
BEGIN:VTIMEZONE
TZID:Europe/Berlin
X-LIC-LOCATION:Europe/Berlin
BEGIN:DAYLIGHT
DTSTART:20280326T030000
TZOFFSETFROM:+0100
TZOFFSETTO:+0200
TZNAME:CEST
END:DAYLIGHT
END:VTIMEZONE
END:VCALENDAR