BEGIN:VCALENDAR
VERSION:2.0
PRODID:-//wp-events-plugin.com//7.2.3.1//EN
TZID:Europe/Berlin
X-WR-TIMEZONE:Europe/Berlin
BEGIN:VEVENT
UID:34@e-g-s.eu
DTSTART;TZID=Europe/Berlin;VALUE=DATE:20280421
DTEND;TZID=Europe/Berlin;VALUE=DATE:20280423
DTSTAMP:20260227T123916Z
URL:https://e-g-s.eu/events/fruehjahrstagung-mit-investitur-in-marienheide
 /
SUMMARY:Frühjahrstagung der EGS mit Investitur - in Marienheide
DESCRIPTION:21. - 22.04.2028 Frühjahrstagung der EGS und der Ritterschaft 
 vom Heiligen Sebastianus in Europamit Investitur
CATEGORIES:EGS
END:VEVENT
BEGIN:VTIMEZONE
TZID:Europe/Berlin
X-LIC-LOCATION:Europe/Berlin
BEGIN:DAYLIGHT
DTSTART:20280326T030000
TZOFFSETFROM:+0100
TZOFFSETTO:+0200
TZNAME:CEST
END:DAYLIGHT
END:VTIMEZONE
END:VCALENDAR